BEGIN:VCALENDAR
VERSION:2.0
PRODID:-//CiviCRM//NONSGML CiviEvent iCal//EN
X-WR-TIMEZONE:Europe/London
METHOD:PUBLISH
BEGIN:VTIMEZONE
TZID:Europe/London
BEGIN:DAYLIGHT
TZOFFSETFROM:+0100
TZOFFSETTO:+0100
TZNAME:BST
DTSTART:20260427T164500
END:DAYLIGHT
END:VTIMEZONE
BEGIN:VEVENT
UID:CiviCRM_EventID_42465_7ab9f6c619f550dc0fe2e3707d93a025@www.middletemple.org.uk
SUMMARY:[Bristol Bar Students] Ethical Responsibilities in
  all Aspects of Barristers’ Practice
X-ALT-DESC;FMTTYPE=text/html:<!DOCTYPE HTML PUBLIC
  "-//W3C//DTD HTML 3.2//EN"><html><body><html>\n <
 head>\n 	<title></title>\n </head>\n <body>\n <div
  style="background:#eeeeee\;border:1px solid #cccc
 cc\;padding:5px 10px\;"><strong>*This event is onl
 y open to students studying the Bar Course at prov
 iders in Bristol*</strong><br />\n <br />\n <em>Th
 is event is organised by&nbsp\;Lincoln's Inn on be
 half of all four Inns.</em></div>\n \n <p>At this 
 qualifying session\, speakers will explore the eth
 ical foundations of practice for junior barristers
 \, both in and outside the courtroom. Students wil
 l learn how to identify core duties\, interpret ke
 y provisions of the Bar Code of Conduct\, and appl
 y them to real ethical dilemmas. The speakers will
  also touch on common challenges that come up duri
 ng training and early practice\, with practical ti
 ps on how to handle tricky situations with confide
 nce and good judgment.</p>\n \n <hr />\n <p><em>St
 udent members must attend all elements of the even
 t in order to be awarded the Qualifying Session. T
 his includes any lecture/talk/reception/dinner/spe
 eches.&nbsp\;</em></p>\n </body>\n </html></body><
 /html>
DESCRIPTION:\n \n 	\n \n \n *This event is only open to studen
 ts studying the Bar Course at providers in Bristol
 *\n \n \n \n This event is organised by Lincoln's 
 Inn on behalf of all four Inns.\n \n \n At this qu
 alifying session\, speakers will explore the ethic
 al foundations of practice for junior barristers\,
  both in and outside the courtroom. Students will 
 learn how to identify core duties\, interpret key 
 provisions of the Bar Code of Conduct\, and apply 
 them to real ethical dilemmas. The speakers will a
 lso touch on common challenges that come up during
  training and early practice\, with practical tips
  on how to handle tricky situations with confidenc
 e and good judgment.\n \n \n \n \n Student members
  must attend all elements of the event in order to
  be awarded the Qualifying Session. This includes 
 any lecture/talk/reception/dinner/speeches. \n \n 
 \n \n 
CATEGORIES:Domus Function
CALSCALE:GREGORIAN
DTSTAMP;TZID=Europe/London:20260427T174500
DTSTART;TZID=Europe/London:20260427T174500
DTEND;TZID=Europe/London:20260427T200000
LOCATION:Bristol - full details will be provided by email p
 rior to the event\n United Kingdom\n 
URL:https://www.middletemple.org.uk/civicrm/event/info?reset=1&id=42465
END:VEVENT
END:VCALENDAR
