BEGIN:VCALENDAR
VERSION:2.0
PRODID:-//CiviCRM//NONSGML CiviEvent iCal//EN
X-WR-TIMEZONE:Europe/London
METHOD:PUBLISH
BEGIN:VTIMEZONE
TZID:Europe/London
BEGIN:DAYLIGHT
TZOFFSETFROM:+0100
TZOFFSETTO:+0100
TZNAME:BST
DTSTART:20260423T164500
END:DAYLIGHT
END:VTIMEZONE
BEGIN:VEVENT
UID:CiviCRM_EventID_42463_7ab9f6c619f550dc0fe2e3707d93a025@www.middletemple.org.uk
SUMMARY:[Cardiff Bar Students] What should I do now? Real 
 life ethical scenarios
X-ALT-DESC;FMTTYPE=text/html:<!DOCTYPE HTML PUBLIC
  "-//W3C//DTD HTML 3.2//EN"><html><body><html>\n <
 head>\n 	<title></title>\n </head>\n <body>\n <div
  style="background:#eeeeee\;border:1px solid #cccc
 cc\;padding:5px 10px\;"><strong>*This event is onl
 y open to students studying the Bar Course at prov
 iders in Cardiff*</strong><br />\n <br />\n <em>Th
 is event is organised by&nbsp\;Middle Temple on be
 half of all four Inns.</em></div>\n \n <p>&nbsp\;<
 /p>\n \n <hr />\n <p><em>Student members must atte
 nd all elements of the event in order to be awarde
 d the Qualifying Session. This includes any lectur
 e/talk/reception/dinner/speeches.&nbsp\;</em></p>\
 n </body>\n </html></body></html>
DESCRIPTION:\n \n 	\n \n \n *This event is only open to studen
 ts studying the Bar Course at providers in Cardiff
 *\n \n \n \n This event is organised by Middle Tem
 ple on behalf of all four Inns.\n \n \n  \n \n \n 
 \n \n Student members must attend all elements of 
 the event in order to be awarded the Qualifying Se
 ssion. This includes any lecture/talk/reception/di
 nner/speeches. \n \n \n \n 
CATEGORIES:Domus Function
CALSCALE:GREGORIAN
DTSTAMP;TZID=Europe/London:20260423T174500
DTSTART;TZID=Europe/London:20260423T174500
DTEND;TZID=Europe/London:20260423T200000
LOCATION:Cardiff - full details will be provided by email p
 rior to the event\n United Kingdom\n 
URL:https://www.middletemple.org.uk/civicrm/event/info?reset=1&id=42463
END:VEVENT
END:VCALENDAR
