BEGIN:VCALENDAR
VERSION:2.0
PRODID:-//CiviCRM//NONSGML CiviEvent iCal//EN
X-WR-TIMEZONE:Europe/London
METHOD:PUBLISH
BEGIN:VTIMEZONE
TZID:Europe/London
BEGIN:DAYLIGHT
TZOFFSETFROM:+0100
TZOFFSETTO:+0100
TZNAME:BST
DTSTART:20260427T163000
END:DAYLIGHT
END:VTIMEZONE
BEGIN:VEVENT
UID:CiviCRM_EventID_42408_7ab9f6c619f550dc0fe2e3707d93a025@www.middletemple.org.uk
SUMMARY:Treasurer's Lecture | The Hon Mrs Justice Farbey D
 BE  | The Characteristics of Justice
X-ALT-DESC;FMTTYPE=text/html:<!DOCTYPE HTML PUBLIC
  "-//W3C//DTD HTML 3.2//EN"><html><body><html>\n <
 head>\n 	<title></title>\n </head>\n <body data-gr
 -ext-installed="" data-new-gr-c-s-check-loaded="14
 .1270.0" data-new-gr-c-s-loaded="14.1270.0">\n <di
 v style="background:#eeeeee\;border:1px solid #ccc
 ccc\;padding:5px 10px\;">This event is taking plac
 e in Middle Temple Hall AND will be streamed live.
 &nbsp\;This page is for tickets&nbsp\;to attend IN
  PERSON. To book a ticket to attend online&nbsp\;<
 a href="https://www.middletemple.org.uk/civicrm/ev
 ent/info?reset=1&amp\;id=42473">CLICK HERE</a>. We
  will not be able to admit anyone in person with a
  virtual ticket.</div>\n \n <p>Join us in Hall for
  a lecture from The Hon Mrs Justice Farbey.</p>\n 
 \n <p>The Characteristics of Justice will be a lec
 ture about the concept of justice and the principl
 es underlying a justice system. Whether you are a 
 student\, pupil or barrister\, you are involved ev
 ery day with thinking about justice and the justic
 e system.&nbsp\; This lecture will provide attende
 es with a chance to stand back and think about wha
 t lies behind our daily work.&nbsp\; What are the 
 characteristics of just laws?&nbsp\; How may the l
 egal system promote just laws?&nbsp\; Drawing on p
 hilosophy\, domestic and international law\, this 
 lecture will attempt to answer these questions and
  stimulate discussion. &nbsp\;&nbsp\;&nbsp\;&nbsp\
 ;&nbsp\;&nbsp\;</p>\n \n <hr />\n <p style="color:
  rgb(170\, 170\, 170)\; font-style: italic\;">Stud
 ent members (including transferring lawyers) must 
 attend all elements of the event in order to be aw
 arded the Qualifying Session. This includes any le
 cture/talk/reception/dinner/speeches.</p>\n <gramm
 arly-desktop-integration data-grammarly-shadow-roo
 t="true"></grammarly-desktop-integration></body>\n
  </html></body></html>
DESCRIPTION:\n \n 	\n \n \n This event is taking place in Midd
 le Temple Hall AND will be streamed live. This pag
 e is for tickets to attend IN PERSON. To book a ti
 cket to attend online CLICK HERE (https://www.midd
 letemple.org.uk/civicrm/event/info?reset=1&id=4247
 3). We will not be able to admit anyone in person 
 with a virtual ticket.\n \n \n Join us in Hall for
  a lecture from The Hon Mrs Justice Farbey.\n \n \
 n \n The Characteristics of Justice will be a lect
 ure about the concept of justice and the principle
 s underlying a justice system. Whether you are a s
 tudent\, pupil or barrister\, you are involved eve
 ry day with thinking about justice and the justice
  system.  This lecture will provide attendees with
  a chance to stand back and think about what lies 
 behind our daily work.  What are the characteristi
 cs of just laws?  How may the legal system promote
  just laws?  Drawing on philosophy\, domestic and 
 international law\, this lecture will attempt to a
 nswer these questions and stimulate discussion.   
     \n \n \n \n \n Student members (including tran
 sferring lawyers) must attend all elements of the 
 event in order to be awarded the Qualifying Sessio
 n. This includes any lecture/talk/reception/dinner
 /speeches.\n \n \n \n 
CATEGORIES:Domus Function
CALSCALE:GREGORIAN
DTSTAMP;TZID=Europe/London:20260427T173000
DTSTART;TZID=Europe/London:20260427T173000
DTEND;TZID=Europe/London:20260427T193000
LOCATION:Middle Temple Hall\n London\, EC4Y 9BT-EC4Y 9BT\n 
 United Kingdom\n 
ORGANIZER:MAILTO:library@middletemple.org.uk
URL:https://www.middletemple.org.uk/civicrm/event/info?reset=1&id=42408
END:VEVENT
END:VCALENDAR
